BEGIN:VCALENDAR
VERSION:2.0
PRODID:-//United Way of King County - ECPv6.15.20//NONSGML v1.0//EN
CALSCALE:GREGORIAN
METHOD:PUBLISH
X-ORIGINAL-URL:https://www.uwkc.org
X-WR-CALDESC:Events for United Way of King County
REFRESH-INTERVAL;VALUE=DURATION:PT1H
X-Robots-Tag:noindex
X-PUBLISHED-TTL:PT1H
BEGIN:VTIMEZONE
TZID:America/Los_Angeles
BEGIN:DAYLIGHT
TZOFFSETFROM:-0800
TZOFFSETTO:-0700
TZNAME:PDT
DTSTART:20230312T100000
END:DAYLIGHT
BEGIN:STANDARD
TZOFFSETFROM:-0700
TZOFFSETTO:-0800
TZNAME:PST
DTSTART:20231105T090000
END:STANDARD
BEGIN:DAYLIGHT
TZOFFSETFROM:-0800
TZOFFSETTO:-0700
TZNAME:PDT
DTSTART:20240310T100000
END:DAYLIGHT
BEGIN:STANDARD
TZOFFSETFROM:-0700
TZOFFSETTO:-0800
TZNAME:PST
DTSTART:20241103T090000
END:STANDARD
BEGIN:DAYLIGHT
TZOFFSETFROM:-0800
TZOFFSETTO:-0700
TZNAME:PDT
DTSTART:20250309T100000
END:DAYLIGHT
BEGIN:STANDARD
TZOFFSETFROM:-0700
TZOFFSETTO:-0800
TZNAME:PST
DTSTART:20251102T090000
END:STANDARD
END:VTIMEZONE
BEGIN:VEVENT
DTSTART;TZID=America/Los_Angeles:20240213T180000
DTEND;TZID=America/Los_Angeles:20240213T193000
DTSTAMP:20260423T032928
CREATED:20240103T200446Z
LAST-MODIFIED:20240202T183002Z
UID:21276-1707847200-1707852600@www.uwkc.org
SUMMARY:Advancing Racial Equity:  Revisiting Dr. King's Lost Speech
DESCRIPTION:Join us to celebrate Black History Month and for an evening of advancing racial equity in King County. Come\, listen\, learn\, and take action!  \nOne of Dr. Martin Luther King’s greatest lessons was simply to listen. Can we intentionally build this practice of listening and empathizing in our workplaces\, places of worship\, within our families\, and across our networks? \nIn the latest installment of our Advancing Racial Equity Event Series\, we’ll discuss excerpts from one of Dr. King’s speeches\, a treasure that was nearly forgotten before being discovered on acetate film in 2008. Together\, we’ll discover how they resonate with today’s realities for all of us across King County. Our panelists include: \n\nColleen Echohawk – CEO\, Eighth Generation\nJorge L. Barón – King County Council\, District 4\nMarcus Boston – Glover Empower Mentoring\nGordon McHenry\, Jr. – CEO\, United Way of King County (moderator)\n\nWe’ll also enjoy performances by The Rhapsody Project\, a community that explores and celebrates music and heritage through an anti-racist lens. \nAs part of our racial equity journey\, proceeds from this event will go toward supporting and empowering The Black Community Building Collective\, The Indigenous Communities Fund\, and the Racial Equity Coalition. \nIf the ticket price is a barrier for you to attend this event\, please email us at eventregistration@uwkc.org for a free ticket code. This event will not be recorded or offered virtually.  \n  \nLooking for other ways to connect with United Way of King County? Check out our next event on February 29 – Conversations for Change: Of Equity and Education.
URL:https://www.uwkc.org/event/advancing-racial-equity-revisiting-dr-kings-lost-speech/
LOCATION:Rainier Arts Center\, 3515 South Alaska St.\, Seattle\, WA\, 98118\, United States
CATEGORIES:Advancing Racial Equity Series,Networking,Speaker Series,United Way,United Way of King County
ATTACH;FMTTYPE=image/jpeg:https://www.uwkc.org/wp-content/uploads/2024/01/ARE-2023-Feb2024-Eventbrite.jpg
END:VEVENT
END:VCALENDAR