BEGIN:VCALENDAR
VERSION:2.0
PRODID:-//United Way of King County - ECPv6.15.20//NONSGML v1.0//EN
CALSCALE:GREGORIAN
METHOD:PUBLISH
X-ORIGINAL-URL:https://www.uwkc.org
X-WR-CALDESC:Events for United Way of King County
REFRESH-INTERVAL;VALUE=DURATION:PT1H
X-Robots-Tag:noindex
X-PUBLISHED-TTL:PT1H
BEGIN:VTIMEZONE
TZID:America/Los_Angeles
BEGIN:DAYLIGHT
TZOFFSETFROM:-0800
TZOFFSETTO:-0700
TZNAME:PDT
DTSTART:20240310T100000
END:DAYLIGHT
BEGIN:STANDARD
TZOFFSETFROM:-0700
TZOFFSETTO:-0800
TZNAME:PST
DTSTART:20241103T090000
END:STANDARD
BEGIN:DAYLIGHT
TZOFFSETFROM:-0800
TZOFFSETTO:-0700
TZNAME:PDT
DTSTART:20250309T100000
END:DAYLIGHT
BEGIN:STANDARD
TZOFFSETFROM:-0700
TZOFFSETTO:-0800
TZNAME:PST
DTSTART:20251102T090000
END:STANDARD
BEGIN:DAYLIGHT
TZOFFSETFROM:-0800
TZOFFSETTO:-0700
TZNAME:PDT
DTSTART:20260308T100000
END:DAYLIGHT
BEGIN:STANDARD
TZOFFSETFROM:-0700
TZOFFSETTO:-0800
TZNAME:PST
DTSTART:20261101T090000
END:STANDARD
END:VTIMEZONE
BEGIN:VEVENT
DTSTART;TZID=America/Los_Angeles:20250618T180000
DTEND;TZID=America/Los_Angeles:20250618T210000
DTSTAMP:20260425T064322
CREATED:20250521T204231Z
LAST-MODIFIED:20250521T205641Z
UID:23844-1750269600-1750280400@www.uwkc.org
SUMMARY:Volunteer - 24th Annual Juneteenth Celebration!!
DESCRIPTION:Join us in supporting one of the longest-running Juneteenth events in King County!\nAtlantic Street Center’s annual celebration brings together over 300 attendees and 50+ vendors for a powerful evening of free food\, local performances\, art\, education\, and community connection. \nWe’re looking for volunteers to help make this celebration run smoothly!Our volunteer team will support key tasks such as:✔ Checking in vendors and volunteers✔ Setting up tables\, chairs\, and tents✔ Decorating event spaces✔ Assisting with guest engagement—handing out programs and meal tickets✔ Helping with clean-up and breakdown at the end of the evening✔ Floating support wherever needed \n  \nBring your energy\, your smile\, and your commitment to honoring Black history and joy. This is a great opportunity to volunteer alongside your team or friends\, meet community members\, and take part in a meaningful celebration. \nLet’s show up and show out for Juneteenth!
URL:https://www.uwkc.org/event/volunteer-24th-annual-juneteenth-celebration/
LOCATION:Rainer Beach Community Center\, 8825 Rainier Ave. S\, Seattle\, WA\, 98118\, United States
CATEGORIES:Emerging Leaders 365,Volunteer
ATTACH;FMTTYPE=image/jpeg:https://www.uwkc.org/wp-content/uploads/2024/06/Juneteenth-MAIN.jpg
END:VEVENT
END:VCALENDAR