BEGIN:VCALENDAR
VERSION:2.0
PRODID:-//United Way of King County - ECPv6.15.20//NONSGML v1.0//EN
CALSCALE:GREGORIAN
METHOD:PUBLISH
X-ORIGINAL-URL:https://www.uwkc.org
X-WR-CALDESC:Events for United Way of King County
REFRESH-INTERVAL;VALUE=DURATION:PT1H
X-Robots-Tag:noindex
X-PUBLISHED-TTL:PT1H
BEGIN:VTIMEZONE
TZID:America/Los_Angeles
BEGIN:DAYLIGHT
TZOFFSETFROM:-0800
TZOFFSETTO:-0700
TZNAME:PDT
DTSTART:20250309T100000
END:DAYLIGHT
BEGIN:STANDARD
TZOFFSETFROM:-0700
TZOFFSETTO:-0800
TZNAME:PST
DTSTART:20251102T090000
END:STANDARD
BEGIN:DAYLIGHT
TZOFFSETFROM:-0800
TZOFFSETTO:-0700
TZNAME:PDT
DTSTART:20260308T100000
END:DAYLIGHT
BEGIN:STANDARD
TZOFFSETFROM:-0700
TZOFFSETTO:-0800
TZNAME:PST
DTSTART:20261101T090000
END:STANDARD
BEGIN:DAYLIGHT
TZOFFSETFROM:-0800
TZOFFSETTO:-0700
TZNAME:PDT
DTSTART:20270314T100000
END:DAYLIGHT
BEGIN:STANDARD
TZOFFSETFROM:-0700
TZOFFSETTO:-0800
TZNAME:PST
DTSTART:20271107T090000
END:STANDARD
END:VTIMEZONE
BEGIN:VEVENT
DTSTART;TZID=America/Los_Angeles:20260404T100000
DTEND;TZID=America/Los_Angeles:20260404T160000
DTSTAMP:20260424T162044
CREATED:20260123T205121Z
LAST-MODIFIED:20260330T193825Z
UID:24399-1775296800-1775318400@www.uwkc.org
SUMMARY:Free Tax Help Event: April 4
DESCRIPTION:United Way of King County helps our neighbors create financial stability through providing free tax services every year.\nLast year\, we helped King County claim over $17 million in tax credits and returns! Now\, with My Free Taxes Washington\, we’re expanding statewide\, offering in-person tax assistance and completely virtual options in up to seven languages. Plus\, one-day events to simply show up and file your taxes! \nHERE’S HOW IT WORKS:\n\nBring the correct documents: Check out our webpage to prepare for your appointment and double-check that you qualify for free assistance.\nSave the date on your calendar for an in-person event or pick a different option to file that works with your schedule!\nShow up! We have hundreds of trained volunteers ready to make tax time easy.
URL:https://www.uwkc.org/event/free-tax-help-event-april-4/
LOCATION:West Seattle Food Bank\, 6516 35th Ave SW\, Seattle\, 98126\, United States
CATEGORIES:Free Tax Help,United Way of King County
ATTACH;FMTTYPE=image/jpeg:https://www.uwkc.org/wp-content/uploads/2026/01/IMG_1699-e1774899496695.jpg
END:VEVENT
BEGIN:VEVENT
DTSTART;TZID=America/Los_Angeles:20260411T100000
DTEND;TZID=America/Los_Angeles:20260411T160000
DTSTAMP:20260424T162044
CREATED:20260123T205456Z
LAST-MODIFIED:20260203T181349Z
UID:24423-1775901600-1775923200@www.uwkc.org
SUMMARY:Free Tax Help Event: April 11
DESCRIPTION:United Way of King County helps our neighbors create financial stability through providing free tax services every year.\nLast year\, we helped King County claim over $17 million in tax credits and returns! Now\, with My Free Taxes Washington\, we’re expanding statewide\, offering in-person tax assistance and completely virtual options in up to seven languages. Plus\, one-day events to simply show up and file your taxes! \nHERE’S HOW IT WORKS:\n\nBring the correct documents: Check out our webpage to prepare for your appointment and double-check that you qualify for free assistance.\nSave the date on your calendar for an in-person event or pick a different option to file that works with your schedule!\nShow up! We have hundreds of trained volunteers ready to make tax time easy.
URL:https://www.uwkc.org/event/free-tax-help-event-april-11/
LOCATION:West Seattle Food Bank\, 6516 35th Ave SW\, Seattle\, 98126\, United States
CATEGORIES:Free Tax Help,United Way of King County
ATTACH;FMTTYPE=image/png:https://www.uwkc.org/wp-content/uploads/2023/12/familyTaxCredit.png
END:VEVENT
BEGIN:VEVENT
DTSTART;TZID=America/Los_Angeles:20260520T090000
DTEND;TZID=America/Los_Angeles:20260520T120000
DTSTAMP:20260424T162044
CREATED:20260330T193309Z
LAST-MODIFIED:20260407T194354Z
UID:24769-1779267600-1779278400@www.uwkc.org
SUMMARY:Volunteer Opportunity: Pack the Bus:  May 20
DESCRIPTION:Did you know that when school lets out for the summer\, many children lose access to the meals\, supplies\, and enrichment they need to thrive? To help bridge that gap\, United Way of King County is partnering with Communities in Schools of Greater King County (CIS) to launch Pack the Bus\, a new corporate and community volunteer initiative supporting students and families during the summer months. \nVolunteers will assemble over 2\,500 summer support kits for students across King County\, including select schools in districts such as Seattle\, Lake Washington\, Issaquah\, and Renton. Kits will include food\, hygiene supplies\, activities\, and resources designed to keep students nourished\, healthy\, and engaged all summer long. This is the first year of Pack the Bus\, and our vision is to grow the program to reach even more students and communities. \nWhile this is a partner-led volunteer event\, you can volunteer with our Emerging Leaders 365 group or make an immediate impact by purchasing items from our Amazon Wish List. to support the kits. \nIf your organization is interested in partnering or if you have any questions\, please reach out to Alexis Silva at asilva@uwkc.org and Carrie Bates at cbates@uwkc.org.
URL:https://www.uwkc.org/event/pack-the-bus/
LOCATION:North Seattle Community College\, 9600 College Way N\, Seattle\, WA\, 98103\, United States
CATEGORIES:United Way of King County,Volunteer
ATTACH;FMTTYPE=image/png:https://www.uwkc.org/wp-content/uploads/2026/03/ptb-fi.png
END:VEVENT
END:VCALENDAR